BEGIN:VCALENDAR
VERSION:2.0
PRODID:SchoolNow
CALSCALE:GREGORIAN
BEGIN:VEVENT
UID:11f8e054-18e2-11f1-b3e9-0a58a9feac02
DTSTAMP:20260305T222426Z
SUMMARY:Steel Valley Drama Presents - Rodgers & Hammerstein's Cinderella
DESCRIPTION:The Steel Valley Drama Club is excited to present this year's m
 usical - Rodgers & Hammerstein's Cinderella: The Broadway Version! Get you
 r tickets now: https://svdrama.seatyourself.biz
URL;VALUE=URI:https://www.steelvalleysd.org/communication/calendar/8894181/
 steel-valley-drama-presents-rodgers-hammersteins-cinderella-clone
DTSTART:20260315T180000Z
DTEND:20260315T203000Z
END:VEVENT
END:VCALENDAR
