BEGIN:VCALENDAR
VERSION:2.0
PRODID:SchoolNow
CALSCALE:GREGORIAN
BEGIN:VEVENT
UID:ed8f1bfc-18e1-11f1-bd75-0e8a3ca0f1b9
DTSTAMP:20260305T222325Z
SUMMARY:Steel Valley Drama Presents - Rodgers & Hammerstein's Cinderella
DESCRIPTION:The Steel Valley Drama Club is excited to present this year's m
 usical - Rodgers & Hammerstein's Cinderella: The Broadway Version! Get you
 r tickets now: https://svdrama.seatyourself.biz
URL;VALUE=URI:https://www.steelvalleysd.org/communication/calendar/8894173/
 steel-valley-drama-presents-rodgers-hammersteins-cinderella
DTSTART:20260312T230000Z
DTEND:20260313T013000Z
END:VEVENT
END:VCALENDAR
