BEGIN:VCALENDAR
VERSION:2.0
PRODID:SchoolNow
CALSCALE:GREGORIAN
BEGIN:VEVENT
UID:874d77e2-0146-11f1-a109-0a58a9feac02
DTSTAMP:20260203T212305Z
SUMMARY:Board of Directors Meeting
LOCATION:Steel Valley Senior High School Library\, located at 3113 Main Str
 eet\, Munhall\, PA 15120
URL;VALUE=URI:https://www.steelvalleysd.org/communication/calendar/8848997/
 board-of-directors-meeting
DTSTART:20261204T000000Z
DTEND:20261204T010000Z
END:VEVENT
END:VCALENDAR
