BEGIN:VCALENDAR
VERSION:2.0
PRODID:SchoolNow
CALSCALE:GREGORIAN
BEGIN:VEVENT
UID:766c466a-0146-11f1-b177-0affd1487523
DTSTAMP:20260203T212237Z
SUMMARY:Board of Directors Meeting
LOCATION:Steel Valley Senior High School Library\, located at 3113 Main Str
 eet\, Munhall\, PA 15120
URL;VALUE=URI:https://www.steelvalleysd.org/communication/calendar/8848993/
 board-of-directors-meeting
DTSTART:20261029T230000Z
DTEND:20261030T000000Z
END:VEVENT
END:VCALENDAR
