BEGIN:VCALENDAR
VERSION:2.0
PRODID:SchoolNow
CALSCALE:GREGORIAN
BEGIN:VEVENT
UID:6e780084-0146-11f1-b5e0-0affd1487523
DTSTAMP:20260203T212223Z
SUMMARY:Board of Directors Workshop Meeting
LOCATION:Steel Valley Senior High School Library\, located at 3113 Main Str
 eet\, Munhall\, PA 15120
URL;VALUE=URI:https://www.steelvalleysd.org/communication/calendar/8848991/
 board-of-directors-workshop-meeting
DTSTART:20261026T233000Z
DTEND:20261027T003000Z
END:VEVENT
END:VCALENDAR
