BEGIN:VCALENDAR
VERSION:2.0
PRODID:SchoolNow
CALSCALE:GREGORIAN
BEGIN:VEVENT
UID:66170656-0146-11f1-9cdd-0a58a9feac02
DTSTAMP:20260203T212209Z
SUMMARY:Board of Directors Meeting
LOCATION:Steel Valley Senior High School Library\, located at 3113 Main Str
 eet\, Munhall\, PA 15120
URL;VALUE=URI:https://www.steelvalleysd.org/communication/calendar/8848989/
 board-of-directors-meeting
DTSTART:20260924T230000Z
DTEND:20260925T000000Z
END:VEVENT
END:VCALENDAR
