BEGIN:VCALENDAR
VERSION:2.0
PRODID:SchoolNow
CALSCALE:GREGORIAN
BEGIN:VEVENT
UID:5929714a-0146-11f1-b24b-02c286309ee7
DTSTAMP:20260203T212148Z
SUMMARY:Board of Directors Workshop Meeting
LOCATION:Steel Valley Senior High School Library\, located at 3113 Main Str
 eet\, Munhall\, PA 15120
URL;VALUE=URI:https://www.steelvalleysd.org/communication/calendar/8848987/
 board-of-directors-workshop-meeting
DTSTART:20260921T233000Z
DTEND:20260922T003000Z
END:VEVENT
END:VCALENDAR
