BEGIN:VCALENDAR
VERSION:2.0
PRODID:SchoolNow
CALSCALE:GREGORIAN
BEGIN:VEVENT
UID:51115b12-0146-11f1-87cd-0affdf23371d
DTSTAMP:20260203T212134Z
SUMMARY:Board of Directors Meeting
LOCATION:Steel Valley Senior High School Library\, located at 3113 Main Str
 eet\, Munhall\, PA 15120
URL;VALUE=URI:https://www.steelvalleysd.org/communication/calendar/8848985/
 board-of-directors-meeting
DTSTART:20260813T110000Z
DTEND:20260813T120000Z
END:VEVENT
END:VCALENDAR
