BEGIN:VCALENDAR
VERSION:2.0
PRODID:SchoolNow
CALSCALE:GREGORIAN
BEGIN:VEVENT
UID:48790b30-0146-11f1-8787-0affd46903e3
DTSTAMP:20260203T212120Z
SUMMARY:Board of Directors Workshop Meeting
LOCATION:Steel Valley Senior High School Library\, located at 3113 Main Str
 eet\, Munhall\, PA 15120
URL;VALUE=URI:https://www.steelvalleysd.org/communication/calendar/8848983/
 board-of-directors-workshop-meeting
DTSTART:20260810T233000Z
DTEND:20260811T003000Z
END:VEVENT
END:VCALENDAR
