BEGIN:VCALENDAR
VERSION:2.0
PRODID:SchoolNow
CALSCALE:GREGORIAN
BEGIN:VEVENT
UID:25d4bc3c-0146-11f1-89e2-0a58a9feac02
DTSTAMP:20260203T212021Z
SUMMARY:Board of Directors Meeting
LOCATION:Steel Valley Senior High School Library\, located at 3113 Main Str
 eet\, Munhall\, PA 15120
URL;VALUE=URI:https://www.steelvalleysd.org/communication/calendar/8848979/
 board-of-directors-meeting
DTSTART:20260625T230000Z
DTEND:20260626T000000Z
END:VEVENT
END:VCALENDAR
