BEGIN:VCALENDAR
VERSION:2.0
PRODID:SchoolNow
CALSCALE:GREGORIAN
BEGIN:VEVENT
UID:f0b6d72e-0145-11f1-9106-0a58a9feac02
DTSTAMP:20260203T211852Z
SUMMARY:Board of Directors Meeting
LOCATION:Steel Valley Senior High School Library\, located at 3113 Main Str
 eet\, Munhall\, PA 15120
URL;VALUE=URI:https://www.steelvalleysd.org/communication/calendar/8848977/
 board-of-directors-meeting
DTSTART:20260521T110000Z
DTEND:20260521T120000Z
END:VEVENT
END:VCALENDAR
