BEGIN:VCALENDAR
VERSION:2.0
PRODID:SchoolNow
CALSCALE:GREGORIAN
BEGIN:VEVENT
UID:d911bcec-0145-11f1-957e-0affdf23371d
DTSTAMP:20260203T211813Z
SUMMARY:Board of Directors Workshop Meeting
LOCATION:Steel Valley Senior High School Library\, located at 3113 Main Str
 eet\, Munhall\, PA 15120
URL;VALUE=URI:https://www.steelvalleysd.org/communication/calendar/8848971/
 board-of-directors-workshop-meeting
DTSTART:20260427T233000Z
DTEND:20260428T003000Z
END:VEVENT
END:VCALENDAR
