BEGIN:VCALENDAR
VERSION:2.0
PRODID:SchoolNow
CALSCALE:GREGORIAN
BEGIN:VEVENT
UID:e57061ac-fe0a-11f0-81eb-0e382b5ee827
DTSTAMP:20260221T023119Z
SUMMARY:Board of Directors Workshop Meeting
LOCATION:Steel Valley Senior High School Library\, located at  3113 Main St
 reet\, Munhall\, PA 15120
URL;VALUE=URI:https://www.steelvalleysd.org/communication/calendar/8847083/
 board-of-directors-workshop-meeting
DTSTART:20260224T003000Z
DTEND:20260224T013000Z
ATTACH;FILENAME=02-23-26 -  Worksession Agenda .pdf;FMTTYPE=application/pdf
 :https://campussuite-storage.s3.amazonaws.com/prod/1074787/6763d576-3536-1
 1e7-9e05-124f7febbf4a/3073232/61a61442-0ecd-11f1-a818-0afff8bfbea1/file/02
 -23-26 -  Worksession Agenda .pdf
END:VEVENT
END:VCALENDAR
