BEGIN:VCALENDAR
VERSION:2.0
PRODID:SchoolNow
CALSCALE:GREGORIAN
BEGIN:VEVENT
UID:f0988200-b9b6-11f0-afe3-0affd2424ac3
DTSTAMP:20251104T194622Z
SUMMARY:Semi Formal Tickets on Sale
URL;VALUE=URI:https://www.steelvalleysd.org/communication/calendar/8776495/
 semi-formal-tickets-on-sale
DTSTART;VALUE=DATE:20251208
DTEND;VALUE=DATE:20251213
END:VEVENT
END:VCALENDAR
