BEGIN:VCALENDAR
VERSION:2.0
PRODID:SchoolNow
CALSCALE:GREGORIAN
BEGIN:VEVENT
UID:a708617c-aeae-11f0-8d8d-0a58a9feac02
DTSTAMP:20251021T184919Z
SUMMARY:Report Cards Distributed
URL;VALUE=URI:https://www.steelvalleysd.org/communication/calendar/8739615/
 report-cards-distributed
DTSTART;VALUE=DATE:20260604
DTEND;VALUE=DATE:20260605
END:VEVENT
END:VCALENDAR
