BEGIN:VCALENDAR
VERSION:2.0
PRODID:SchoolNow
CALSCALE:GREGORIAN
BEGIN:VEVENT
UID:965286b4-aeae-11f0-809b-0a58a9feac02
DTSTAMP:20251021T184851Z
SUMMARY:Clerical Day/No School for Students
URL;VALUE=URI:https://www.steelvalleysd.org/communication/calendar/8739609/
 clerical-day-no-school-for-students
DTSTART;VALUE=DATE:20260601
DTEND;VALUE=DATE:20260602
END:VEVENT
END:VCALENDAR
