BEGIN:VCALENDAR
VERSION:2.0
PRODID:SchoolNow
CALSCALE:GREGORIAN
BEGIN:VEVENT
UID:40f85a18-aeae-11f0-9b97-0a58a9feac02
DTSTAMP:20251021T184628Z
SUMMARY:End of Grading Period
URL;VALUE=URI:https://www.steelvalleysd.org/communication/calendar/8739594/
 end-of-grading-period
DTSTART;VALUE=DATE:20260528
DTEND;VALUE=DATE:20260529
END:VEVENT
END:VCALENDAR
