BEGIN:VCALENDAR
VERSION:2.0
PRODID:SchoolNow
CALSCALE:GREGORIAN
BEGIN:VEVENT
UID:30853f48-aeae-11f0-8491-0202a3ed5e4b
DTSTAMP:20251021T184601Z
SUMMARY:Holiday/No School for Students
URL;VALUE=URI:https://www.steelvalleysd.org/communication/calendar/8739588/
 holiday-no-school-for-students
DTSTART;VALUE=DATE:20260525
DTEND;VALUE=DATE:20260526
END:VEVENT
END:VCALENDAR
