BEGIN:VCALENDAR
VERSION:2.0
PRODID:SchoolNow
CALSCALE:GREGORIAN
BEGIN:VEVENT
UID:1a3535c2-aeae-11f0-a396-0a58a9feac02
DTSTAMP:20251021T184523Z
SUMMARY:Progress Reports Distributed
URL;VALUE=URI:https://www.steelvalleysd.org/communication/calendar/8739582/
 progress-reports-distributed
DTSTART;VALUE=DATE:20260430
DTEND;VALUE=DATE:20260501
END:VEVENT
END:VCALENDAR
