BEGIN:VCALENDAR
VERSION:2.0
PRODID:SchoolNow
CALSCALE:GREGORIAN
BEGIN:VEVENT
UID:0a82ecd2-aeae-11f0-9b1c-0a58a9feac02
DTSTAMP:20251021T184457Z
SUMMARY:Holiday/No School for Students
URL;VALUE=URI:https://www.steelvalleysd.org/communication/calendar/8739576/
 holiday-no-school-for-students
DTSTART;VALUE=DATE:20260402
DTEND;VALUE=DATE:20260407
END:VEVENT
END:VCALENDAR
