BEGIN:VCALENDAR
VERSION:2.0
PRODID:SchoolNow
CALSCALE:GREGORIAN
BEGIN:VEVENT
UID:f6c6d21c-aead-11f0-8564-020b8302d979
DTSTAMP:20251021T184424Z
SUMMARY:Act 80 Day/No School for Students
URL;VALUE=URI:https://www.steelvalleysd.org/communication/calendar/8739570/
 act-80-day-no-school-for-students
DTSTART;VALUE=DATE:20260401
DTEND;VALUE=DATE:20260402
END:VEVENT
END:VCALENDAR
