BEGIN:VCALENDAR
VERSION:2.0
PRODID:SchoolNow
CALSCALE:GREGORIAN
BEGIN:VEVENT
UID:91578bce-aead-11f0-86e6-0a58a9feac02
DTSTAMP:20251021T184133Z
SUMMARY:Early Dismissal for Students/Staff Professional Development
URL;VALUE=URI:https://www.steelvalleysd.org/communication/calendar/8739564/
 early-dismissal-for-students-staff-professional-development
DTSTART;VALUE=DATE:20260331
DTEND;VALUE=DATE:20260401
END:VEVENT
END:VCALENDAR
