BEGIN:VCALENDAR
VERSION:2.0
PRODID:SchoolNow
CALSCALE:GREGORIAN
BEGIN:VEVENT
UID:5ecb1cac-aead-11f0-b4dc-020b8302d979
DTSTAMP:20251021T184009Z
SUMMARY:Clerical Day/No School for Students
URL;VALUE=URI:https://www.steelvalleysd.org/communication/calendar/8739552/
 clerical-day-no-school-for-students
DTSTART;VALUE=DATE:20260323
DTEND;VALUE=DATE:20260324
END:VEVENT
END:VCALENDAR
