BEGIN:VCALENDAR
VERSION:2.0
PRODID:SchoolNow
CALSCALE:GREGORIAN
BEGIN:VEVENT
UID:3aabbe12-aead-11f0-9f07-0e95e64832fb
DTSTAMP:20251021T183908Z
SUMMARY:End of Grading Period
URL;VALUE=URI:https://www.steelvalleysd.org/communication/calendar/8739546/
 end-of-grading-period
DTSTART;VALUE=DATE:20260319
DTEND;VALUE=DATE:20260320
END:VEVENT
END:VCALENDAR
