BEGIN:VCALENDAR
VERSION:2.0
PRODID:SchoolNow
CALSCALE:GREGORIAN
BEGIN:VEVENT
UID:42bad162-aeab-11f0-adbe-02120a3370b7
DTSTAMP:20251021T182503Z
SUMMARY:Early Dismissal for Students/Staff Professional Development
URL;VALUE=URI:https://www.steelvalleysd.org/communication/calendar/8739539/
 early-dismissal-for-students-staff-professional-development
DTSTART;VALUE=DATE:20260224
DTEND;VALUE=DATE:20260225
END:VEVENT
END:VCALENDAR
