BEGIN:VCALENDAR
VERSION:2.0
PRODID:SchoolNow
CALSCALE:GREGORIAN
BEGIN:VEVENT
UID:086e32ce-aeab-11f0-9886-020b8302d979
DTSTAMP:20251021T182325Z
SUMMARY:Progress Reports Distributed
URL;VALUE=URI:https://www.steelvalleysd.org/communication/calendar/8739533/
 progress-reports-distributed
DTSTART;VALUE=DATE:20260218
DTEND;VALUE=DATE:20260219
END:VEVENT
END:VCALENDAR
