BEGIN:VCALENDAR
VERSION:2.0
PRODID:SchoolNow
CALSCALE:GREGORIAN
BEGIN:VEVENT
UID:e5be987c-aeaa-11f0-bec7-0a58a9feac02
DTSTAMP:20251021T182227Z
SUMMARY:Holiday/No School for Students
URL;VALUE=URI:https://www.steelvalleysd.org/communication/calendar/8739527/
 holiday-no-school-for-students
DTSTART;VALUE=DATE:20260216
DTEND;VALUE=DATE:20260217
END:VEVENT
END:VCALENDAR
