BEGIN:VCALENDAR
VERSION:2.0
PRODID:SchoolNow
CALSCALE:GREGORIAN
BEGIN:VEVENT
UID:c3e79b72-aeaa-11f0-bfb9-0a58a9feac02
DTSTAMP:20251021T182130Z
SUMMARY:Report Cards Distributed
URL;VALUE=URI:https://www.steelvalleysd.org/communication/calendar/8739521/
 report-cards-distributed
DTSTART;VALUE=DATE:20260122
DTEND;VALUE=DATE:20260123
END:VEVENT
END:VCALENDAR
