BEGIN:VCALENDAR
VERSION:2.0
PRODID:SchoolNow
CALSCALE:GREGORIAN
BEGIN:VEVENT
UID:a33854d4-aeaa-11f0-9424-0a58a9feac02
DTSTAMP:20251021T182035Z
SUMMARY:Holiday/No School for Students
URL;VALUE=URI:https://www.steelvalleysd.org/communication/calendar/8739515/
 holiday-no-school-for-students
DTSTART;VALUE=DATE:20260119
DTEND;VALUE=DATE:20260120
END:VEVENT
END:VCALENDAR
