BEGIN:VCALENDAR
VERSION:2.0
PRODID:SchoolNow
CALSCALE:GREGORIAN
BEGIN:VEVENT
UID:70fba142-aeaa-11f0-ab3d-0a58a9feac02
DTSTAMP:20251021T181911Z
SUMMARY:Clerical Day/No School for Students
URL;VALUE=URI:https://www.steelvalleysd.org/communication/calendar/8739509/
 clerical-day-no-school-for-students
DTSTART;VALUE=DATE:20260116
DTEND;VALUE=DATE:20260117
END:VEVENT
END:VCALENDAR
