BEGIN:VCALENDAR
VERSION:2.0
PRODID:SchoolNow
CALSCALE:GREGORIAN
BEGIN:VEVENT
UID:448b751a-aeaa-11f0-aa31-0a58a9feac02
DTSTAMP:20251021T181756Z
SUMMARY:End of Grading Period
URL;VALUE=URI:https://www.steelvalleysd.org/communication/calendar/8739503/
 end-of-grading-period
DTSTART;VALUE=DATE:20260112
DTEND;VALUE=DATE:20260113
END:VEVENT
END:VCALENDAR
