BEGIN:VCALENDAR
VERSION:2.0
PRODID:SchoolNow
CALSCALE:GREGORIAN
BEGIN:VEVENT
UID:13e20e4c-aeaa-11f0-bb62-0a58a9feac02
DTSTAMP:20251021T181634Z
SUMMARY:Holiday/No School for Students
URL;VALUE=URI:https://www.steelvalleysd.org/communication/calendar/8739497/
 holiday-no-school-for-students
DTSTART;VALUE=DATE:20251224
DTEND;VALUE=DATE:20260103
END:VEVENT
END:VCALENDAR
