BEGIN:VCALENDAR
VERSION:2.0
PRODID:SchoolNow
CALSCALE:GREGORIAN
BEGIN:VEVENT
UID:ec38b5d0-aea9-11f0-a6de-0a58a9feac02
DTSTAMP:20251021T181528Z
SUMMARY:Day Before Holiday Early Dismissal
URL;VALUE=URI:https://www.steelvalleysd.org/communication/calendar/8739491/
 day-before-holiday-early-dismissal
DTSTART;VALUE=DATE:20251223
DTEND;VALUE=DATE:20251224
END:VEVENT
END:VCALENDAR
