BEGIN:VCALENDAR
VERSION:2.0
PRODID:SchoolNow
CALSCALE:GREGORIAN
BEGIN:VEVENT
UID:3c74b3f6-aea9-11f0-9868-0a58a9feac02
DTSTAMP:20251021T181033Z
SUMMARY:Holidays/No School for Students
URL;VALUE=URI:https://www.steelvalleysd.org/communication/calendar/8739485/
 holidays-no-school-for-students
DTSTART;VALUE=DATE:20251127
DTEND;VALUE=DATE:20251202
END:VEVENT
END:VCALENDAR
