BEGIN:VCALENDAR
VERSION:2.0
PRODID:SchoolNow
CALSCALE:GREGORIAN
BEGIN:VEVENT
UID:ea9694ce-ae93-11f0-ac76-0a58a9feac02
DTSTAMP:20251021T153756Z
SUMMARY:Day Before Holiday Early Dismissal
URL;VALUE=URI:https://www.steelvalleysd.org/communication/calendar/8739467/
 day-before-holiday-early-dismissal
DTSTART;VALUE=DATE:20251126
DTEND;VALUE=DATE:20251127
END:VEVENT
END:VCALENDAR
