BEGIN:VCALENDAR
VERSION:2.0
PRODID:SchoolNow
CALSCALE:GREGORIAN
BEGIN:VEVENT
UID:885601dc-ae93-11f0-a37e-0a58a9feac02
DTSTAMP:20251021T153511Z
SUMMARY:Progress Reports Distributed
URL;VALUE=URI:https://www.steelvalleysd.org/communication/calendar/8739460/
 progress-reports-distributed
DTSTART;VALUE=DATE:20251125
DTEND;VALUE=DATE:20251126
END:VEVENT
END:VCALENDAR
