BEGIN:VCALENDAR
VERSION:2.0
PRODID:SchoolNow
CALSCALE:GREGORIAN
BEGIN:VEVENT
UID:70e4b75a-ae93-11f0-9f6e-0a58a9feac02
DTSTAMP:20251021T153432Z
SUMMARY:Act 80 Day- No Middle/High School
URL;VALUE=URI:https://www.steelvalleysd.org/communication/calendar/8739456/
 act-80-day-no-middle-high-school
DTSTART;VALUE=DATE:20251113
DTEND;VALUE=DATE:20251114
END:VEVENT
END:VCALENDAR
