BEGIN:VCALENDAR
VERSION:2.0
PRODID:SchoolNow
CALSCALE:GREGORIAN
BEGIN:VEVENT
UID:4f86b810-ae93-11f0-a379-0a58a9feac02
DTSTAMP:20251021T153336Z
SUMMARY:Act 80 Day- No Elementary School
URL;VALUE=URI:https://www.steelvalleysd.org/communication/calendar/8739452/
 act-80-day-no-elementary-school
DTSTART;VALUE=DATE:20251112
DTEND;VALUE=DATE:20251113
END:VEVENT
END:VCALENDAR
