BEGIN:VCALENDAR
VERSION:2.0
PRODID:SchoolNow
CALSCALE:GREGORIAN
BEGIN:VEVENT
UID:20f35ba2-ae93-11f0-917b-0202a3ed5e4b
DTSTAMP:20251021T153218Z
SUMMARY:Report Cards Distributed
URL;VALUE=URI:https://www.steelvalleysd.org/communication/calendar/8739446/
 report-cards-distributed
DTSTART;VALUE=DATE:20251030
DTEND;VALUE=DATE:20251031
END:VEVENT
END:VCALENDAR
