BEGIN:VCALENDAR
VERSION:2.0
PRODID:SchoolNow
CALSCALE:GREGORIAN
BEGIN:VEVENT
UID:ff2572da-ae92-11f0-9a21-0a58a9feac02
DTSTAMP:20251021T153121Z
SUMMARY:Clerical Day/No School for Students
URL;VALUE=URI:https://www.steelvalleysd.org/communication/calendar/8739440/
 clerical-day-no-school-for-students
DTSTART;VALUE=DATE:20251027
DTEND;VALUE=DATE:20251028
END:VEVENT
END:VCALENDAR
