BEGIN:VCALENDAR
VERSION:2.0
PRODID:SchoolNow
CALSCALE:GREGORIAN
BEGIN:VEVENT
UID:bcd7ff74-ae92-11f0-ba91-0a58a9feac02
DTSTAMP:20251021T152930Z
SUMMARY:End of Grading Period
URL;VALUE=URI:https://www.steelvalleysd.org/communication/calendar/8739434/
 end-of-grading-period
DTSTART;VALUE=DATE:20251023
DTEND;VALUE=DATE:20251024
END:VEVENT
END:VCALENDAR
