BEGIN:VCALENDAR
VERSION:2.0
PRODID:SchoolNow
CALSCALE:GREGORIAN
BEGIN:VEVENT
UID:87988e64-a3b1-11f0-a581-0e364e4f8e79
DTSTAMP:20251007T191212Z
SUMMARY:Teacher Inservice/No School for Students
URL;VALUE=URI:https://www.steelvalleysd.org/communication/calendar/8702997/
 teacher-inservice-no-school-for-students
DTSTART;VALUE=DATE:20251013
DTEND;VALUE=DATE:20251014
END:VEVENT
END:VCALENDAR
