BEGIN:VCALENDAR
VERSION:2.0
PRODID:SchoolNow
CALSCALE:GREGORIAN
BEGIN:VEVENT
UID:908c4254-8da4-11f0-bd23-0a58a9feac02
DTSTAMP:20250909T174358Z
SUMMARY:Homecoming Spirit Week
URL;VALUE=URI:https://www.steelvalleysd.org/communication/calendar/8601760/
 homecoming-spirit-week
DTSTART:20250922T100000Z
DTEND:20250927T030000Z
ATTACH;FILENAME=2025 Homecoming Spirit Week .pdf;FMTTYPE=application/pdf:ht
 tps://campussuite-storage.s3.amazonaws.com/prod/1074787/6763d576-3536-11e7
 -9e05-124f7febbf4a/3004957/80df6fac-8da4-11f0-b56a-0a58a9feac02/file/2025 
 Homecoming Spirit Week .pdf
END:VEVENT
END:VCALENDAR
