BEGIN:VCALENDAR
VERSION:2.0
PRODID:SchoolNow
CALSCALE:GREGORIAN
BEGIN:VEVENT
UID:df4c4d68-6bb6-11f0-acc0-0affdc5ee261
DTSTAMP:20250728T132922Z
SUMMARY:Early Dismissal for Students/Staff Prof. Dev.
LOCATION:Steel Valley School District
URL;VALUE=URI:https://www.steelvalleysd.org/communication/calendar/8451709/
 early-dismissal-for-students-staff-prof-dev
DTSTART:20250923T110000Z
DTEND:20250923T190000Z
END:VEVENT
END:VCALENDAR
