BEGIN:VCALENDAR
VERSION:2.0
PRODID:SchoolNow
CALSCALE:GREGORIAN
BEGIN:VEVENT
UID:8a9e4190-6bb6-11f0-a47d-0affca91faff
DTSTAMP:20250728T132700Z
SUMMARY:Progress Reports
LOCATION:Steel Valley School District
URL;VALUE=URI:https://www.steelvalleysd.org/communication/calendar/8451705/
 progress-reports
DTSTART:20250925T100000Z
DTEND:20250925T200000Z
END:VEVENT
END:VCALENDAR
