BEGIN:VCALENDAR
VERSION:2.0
PRODID:SchoolNow
CALSCALE:GREGORIAN
BEGIN:VEVENT
UID:9ed3a7c4-4b7a-11f0-9968-0affd0038d69
DTSTAMP:20250617T130239Z
SUMMARY:Steel Top Off Ceremony
LOCATION:3113 Main Street
URL;VALUE=URI:https://www.steelvalleysd.org/communication/calendar/8318160/
 steel-top-off-ceremony
DTSTART:20250624T190000Z
DTEND:20250624T200000Z
END:VEVENT
END:VCALENDAR
