BEGIN:VCALENDAR
VERSION:2.0
PRODID:SchoolNow
CALSCALE:GREGORIAN
BEGIN:VEVENT
UID:26858de6-260e-11f0-afb1-0affdc18a945
DTSTAMP:20250430T215746Z
SUMMARY:Completed Physicals Forms Due
URL;VALUE=URI:https://www.steelvalleysd.org/communication/calendar/8042068/
 completed-physicals-forms-due
DTSTART:20250507T110000Z
DTEND:20250507T190000Z
END:VEVENT
END:VCALENDAR
