BEGIN:VCALENDAR
VERSION:2.0
PRODID:SchoolNow
CALSCALE:GREGORIAN
BEGIN:VEVENT
UID:4f2bac96-2215-11f0-99e3-0a58a9feac02
DTSTAMP:20250425T203856Z
SUMMARY:Care Mobile: July
LOCATION:Homestead Borough Building
URL;VALUE=URI:https://www.steelvalleysd.org/communication/calendar/8008379/
 care-mobile
DTSTART:20250703T133000Z
DTEND:20250703T173000Z
END:VEVENT
END:VCALENDAR
