BEGIN:VCALENDAR
VERSION:2.0
PRODID:SchoolNow
CALSCALE:GREGORIAN
BEGIN:VEVENT
UID:cfab9332-2214-11f0-ac55-0eeb82b10b2f
DTSTAMP:20250425T203522Z
SUMMARY:Care Mobile: June
LOCATION:High School
URL;VALUE=URI:https://www.steelvalleysd.org/communication/calendar/8008378/
 care-mobile-march-clone
DTSTART:20250609T133000Z
DTEND:20250609T173000Z
END:VEVENT
END:VCALENDAR
