BEGIN:VCALENDAR
VERSION:2.0
PRODID:SchoolNow
CALSCALE:GREGORIAN
BEGIN:VEVENT
UID:929636d2-2214-11f0-ad1b-0a58a9feac02
DTSTAMP:20250425T203354Z
SUMMARY:Care Mobile: May
LOCATION:Barrett Elementary
URL;VALUE=URI:https://www.steelvalleysd.org/communication/calendar/8008377/
 care-mobile-march
DTSTART:20250503T133000Z
DTEND:20250503T173000Z
END:VEVENT
END:VCALENDAR
